{
 "currentVersion": 10.41,
 "serviceDescription": "",
 "mapName": "Layers",
 "description": "",
 "copyrightText": "",
 "supportsDynamicLayers": false,
 "layers": [
  {
   "id": 0,
   "name": "Grundkarte",
   "parentLayerId": -1,
   "defaultVisibility": true,
   "subLayerIds": [
    1,
    8,
    11,
    13,
    17,
    19
   ],
   "minScale": 0,
   "maxScale": 0
  },
  {
   "id": 1,
   "name": "Infrastruktur",
   "parentLayerId": 0,
   "defaultVisibility": true,
   "subLayerIds": [
    2,
    3,
    4,
    5,
    7
   ],
   "minScale": 2000000,
   "maxScale": 100000
  },
  {
   "id": 2,
   "name": "Autobahnen",
   "parentLayerId": 1,
   "defaultVisibility": true,
   "subLayerIds": null,
   "minScale": 1000000,
   "maxScale": 0
  },
  {
   "id": 3,
   "name": "Landstrassen",
   "parentLayerId": 1,
   "defaultVisibility": true,
   "subLayerIds": null,
   "minScale": 1000000,
   "maxScale": 0
  },
  {
   "id": 4,
   "name": "Strassen 2. Ordnung",
   "parentLayerId": 1,
   "defaultVisibility": true,
   "subLayerIds": null,
   "minScale": 250000,
   "maxScale": 0
  },
  {
   "id": 5,
   "name": "Strassen 3. Ordnung",
   "parentLayerId": 1,
   "defaultVisibility": true,
   "subLayerIds": [
    6
   ],
   "minScale": 0,
   "maxScale": 0
  },
  {
   "id": 6,
   "name": "3.",
   "parentLayerId": 5,
   "defaultVisibility": true,
   "subLayerIds": null,
   "minScale": 100000,
   "maxScale": 0
  },
  {
   "id": 7,
   "name": "Eisenbahnlinien",
   "parentLayerId": 1,
   "defaultVisibility": true,
   "subLayerIds": null,
   "minScale": 250000,
   "maxScale": 0
  },
  {
   "id": 8,
   "name": "Verwaltung",
   "parentLayerId": 0,
   "defaultVisibility": true,
   "subLayerIds": [
    9,
    10
   ],
   "minScale": 2000000,
   "maxScale": 100000
  },
  {
   "id": 9,
   "name": "locator_admin1",
   "parentLayerId": 8,
   "defaultVisibility": true,
   "subLayerIds": null,
   "minScale": 0,
   "maxScale": 500000
  },
  {
   "id": 10,
   "name": "locator_admin2",
   "parentLayerId": 8,
   "defaultVisibility": true,
   "subLayerIds": null,
   "minScale": 500000,
   "maxScale": 0
  },
  {
   "id": 11,
   "name": "Maske",
   "parentLayerId": 0,
   "defaultVisibility": true,
   "subLayerIds": [
    12
   ],
   "minScale": 0,
   "maxScale": 0
  },
  {
   "id": 12,
   "name": "maske",
   "parentLayerId": 11,
   "defaultVisibility": true,
   "subLayerIds": null,
   "minScale": 2000000,
   "maxScale": 100000
  },
  {
   "id": 13,
   "name": "Gewässer",
   "parentLayerId": 0,
   "defaultVisibility": true,
   "subLayerIds": [
    14,
    15,
    16
   ],
   "minScale": 0,
   "maxScale": 0
  },
  {
   "id": 14,
   "name": "Flüsse",
   "parentLayerId": 13,
   "defaultVisibility": true,
   "subLayerIds": null,
   "minScale": 0,
   "maxScale": 0
  },
  {
   "id": 15,
   "name": "Nebenflüsse",
   "parentLayerId": 13,
   "defaultVisibility": true,
   "subLayerIds": null,
   "minScale": 750000,
   "maxScale": 0
  },
  {
   "id": 16,
   "name": "Seen",
   "parentLayerId": 13,
   "defaultVisibility": true,
   "subLayerIds": null,
   "minScale": 0,
   "maxScale": 0
  },
  {
   "id": 17,
   "name": "Bodenbedeckung",
   "parentLayerId": 0,
   "defaultVisibility": true,
   "subLayerIds": [
    18
   ],
   "minScale": 0,
   "maxScale": 0
  },
  {
   "id": 18,
   "name": "Corine Landcover",
   "parentLayerId": 17,
   "defaultVisibility": true,
   "subLayerIds": null,
   "minScale": 3100000,
   "maxScale": 100000
  },
  {
   "id": 19,
   "name": "Topographie",
   "parentLayerId": 0,
   "defaultVisibility": true,
   "subLayerIds": [
    20,
    21
   ],
   "minScale": 0,
   "maxScale": 0
  },
  {
   "id": 20,
   "name": "Höhenlinien",
   "parentLayerId": 19,
   "defaultVisibility": true,
   "subLayerIds": null,
   "minScale": 0,
   "maxScale": 0
  },
  {
   "id": 21,
   "name": "Relief",
   "parentLayerId": 19,
   "defaultVisibility": true,
   "subLayerIds": null,
   "minScale": 0,
   "maxScale": 0
  }
 ],
 "tables": [],
 "spatialReference": {
  "wkid": 102100,
  "latestWkid": 3857
 },
 "singleFusedMapCache": true,
 "tileInfo": {
  "rows": 256,
  "cols": 256,
  "dpi": 96,
  "format": "PNG",
  "compressionQuality": 0,
  "origin": {
   "x": -2.0037508342787E7,
   "y": 2.0037508342787E7
  },
  "spatialReference": {
   "wkid": 102100,
   "latestWkid": 3857
  },
  "lods": [
   {
    "level": 0,
    "resolution": 156543.03392800014,
    "scale": 5.91657527591555E8
   },
   {
    "level": 1,
    "resolution": 78271.51696399994,
    "scale": 2.95828763795777E8
   },
   {
    "level": 2,
    "resolution": 39135.75848200009,
    "scale": 1.47914381897889E8
   },
   {
    "level": 3,
    "resolution": 19567.87924099992,
    "scale": 7.3957190948944E7
   },
   {
    "level": 4,
    "resolution": 9783.93962049996,
    "scale": 3.6978595474472E7
   },
   {
    "level": 5,
    "resolution": 4891.96981024998,
    "scale": 1.8489297737236E7
   },
   {
    "level": 6,
    "resolution": 2445.98490512499,
    "scale": 9244648.868618
   },
   {
    "level": 7,
    "resolution": 1222.992452562495,
    "scale": 4622324.434309
   },
   {
    "level": 8,
    "resolution": 611.4962262813797,
    "scale": 2311162.217155
   },
   {
    "level": 9,
    "resolution": 305.74811314055756,
    "scale": 1155581.108577
   },
   {
    "level": 10,
    "resolution": 152.87405657041106,
    "scale": 577790.554289
   },
   {
    "level": 11,
    "resolution": 76.43702828507324,
    "scale": 288895.277144
   },
   {
    "level": 12,
    "resolution": 38.21851414253662,
    "scale": 144447.638572
   },
   {
    "level": 13,
    "resolution": 19.10925707126831,
    "scale": 72223.819286
   },
   {
    "level": 14,
    "resolution": 9.554628535634155,
    "scale": 36111.909643
   },
   {
    "level": 15,
    "resolution": 4.77731426794937,
    "scale": 18055.954822
   },
   {
    "level": 16,
    "resolution": 2.388657133974685,
    "scale": 9027.977411
   },
   {
    "level": 17,
    "resolution": 1.1943285668550503,
    "scale": 4513.988705
   },
   {
    "level": 18,
    "resolution": 0.5971642835598172,
    "scale": 2256.994353
   },
   {
    "level": 19,
    "resolution": 0.29858214164761665,
    "scale": 1128.497176
   }
  ]
 },
 "initialExtent": {
  "xmin": 274924.01563458785,
  "ymin": 6160895.486950867,
  "xmax": 979149.5735179769,
  "ymax": 6604001.033075881,
  "spatialReference": {
   "cs": "pcs",
   "wkid": 102100
  }
 },
 "fullExtent": {
  "xmin": 245633.00274721932,
  "ymin": 6019265.53249351,
  "xmax": 993444.8062364052,
  "ymax": 6667093.170812927,
  "spatialReference": {
   "cs": "pcs",
   "wkid": 102100
  }
 },
 "minScale": 2311162.217155,
 "maxScale": 72223.819286,
 "units": "esriMeters",
 "supportedImageFormatTypes": "PNG32,PNG24,PNG,JPG,DIB,TIFF,EMF,PS,PDF,GIF,SVG,SVGZ,BMP",
 "documentInfo": {
  "Title": "OSM",
  "Author": "Administrator",
  "Comments": "",
  "Subject": "",
  "Category": "",
  "AntialiasingMode": "None",
  "TextAntialiasingMode": "Force",
  "Keywords": ""
 },
 "capabilities": "Map",
 "supportedQueryFormats": "JSON, AMF, geoJSON",
 "exportTilesAllowed": false,
 "maxRecordCount": 1000,
 "maxImageHeight": 4096,
 "maxImageWidth": 4096,
 "supportedExtensions": ""
}
